BEGIN:VCALENDAR
VERSION:2.0
PRODID:-//Blizniak&#039;s Bokken - ECPv6.10.1.1//NONSGML v1.0//EN
CALSCALE:GREGORIAN
METHOD:PUBLISH
X-WR-CALNAME:Blizniak&#039;s Bokken
X-ORIGINAL-URL:https://blizniaksbokken.com
X-WR-CALDESC:Events for Blizniak&#039;s Bokken
REFRESH-INTERVAL;VALUE=DURATION:PT1H
X-Robots-Tag:noindex
X-PUBLISHED-TTL:PT1H
BEGIN:VTIMEZONE
TZID:America/New_York
BEGIN:DAYLIGHT
TZOFFSETFROM:-0500
TZOFFSETTO:-0400
TZNAME:EDT
DTSTART:20250309T070000
END:DAYLIGHT
BEGIN:STANDARD
TZOFFSETFROM:-0400
TZOFFSETTO:-0500
TZNAME:EST
DTSTART:20251102T060000
END:STANDARD
END:VTIMEZONE
BEGIN:VEVENT
DTSTART;TZID=America/New_York:20250613T080000
DTEND;TZID=America/New_York:20250615T170000
DTSTAMP:20260424T042147
CREATED:20250214T145251Z
LAST-MODIFIED:20250214T145251Z
UID:3747-1749801600-1750006800@blizniaksbokken.com
SUMMARY:Southeast TaiKai 25
DESCRIPTION:Blizniak’s Bokken will be at the Southeast Taikai 2025 event June 13-15 2025 If you are interested in attending please visit https://www.museitorataijutsu.com/se_taikai25? \nBlizniak’s Bokkens will offer a special raffle for a free bokken. All attendees will be entered into the raffle. We will also bring an assortment of tools for sale that you can get without paying shipping and receive a special event discount! \nIf you would like to preorder a product for us to bring to the event please contact us.
URL:https://blizniaksbokken.com/event/southeast-taikai-25/
LOCATION:Hilton Garden Inn\, 6200 Papermill Dr\, Knoxville\, TN\, 37919\, United States
CATEGORIES:Bujinkan,Southeast Taikai,Taikai
ATTACH;FMTTYPE=image/jpeg:https://blizniaksbokken.com/wp-content/uploads/2025/02/305092076_523047156489479_111526826961335944_n.jpg
END:VEVENT
END:VCALENDAR